BEGIN:VCALENDAR
VERSION:2.0
PRODID:-//Borough of Stratford - ECPv6.15.20//NONSGML v1.0//EN
CALSCALE:GREGORIAN
METHOD:PUBLISH
X-ORIGINAL-URL:https://stratfordnj.org
X-WR-CALDESC:Events for Borough of Stratford
REFRESH-INTERVAL;VALUE=DURATION:PT1H
X-Robots-Tag:noindex
X-PUBLISHED-TTL:PT1H
BEGIN:VTIMEZONE
TZID:America/New_York
BEGIN:DAYLIGHT
TZOFFSETFROM:-0500
TZOFFSETTO:-0400
TZNAME:EDT
DTSTART:20240310T070000
END:DAYLIGHT
BEGIN:STANDARD
TZOFFSETFROM:-0400
TZOFFSETTO:-0500
TZNAME:EST
DTSTART:20241103T060000
END:STANDARD
BEGIN:DAYLIGHT
TZOFFSETFROM:-0500
TZOFFSETTO:-0400
TZNAME:EDT
DTSTART:20250309T070000
END:DAYLIGHT
BEGIN:STANDARD
TZOFFSETFROM:-0400
TZOFFSETTO:-0500
TZNAME:EST
DTSTART:20251102T060000
END:STANDARD
BEGIN:DAYLIGHT
TZOFFSETFROM:-0500
TZOFFSETTO:-0400
TZNAME:EDT
DTSTART:20260308T070000
END:DAYLIGHT
BEGIN:STANDARD
TZOFFSETFROM:-0400
TZOFFSETTO:-0500
TZNAME:EST
DTSTART:20261101T060000
END:STANDARD
END:VTIMEZONE
BEGIN:VEVENT
DTSTART;TZID=America/New_York:20251024T190000
DTEND;TZID=America/New_York:20251030T070000
DTSTAMP:20260422T135450
CREATED:20250624T125503Z
LAST-MODIFIED:20250624T125503Z
UID:13236-1761332400-1761807600@stratfordnj.org
SUMMARY:Borough Curfew (Halloween Week)
DESCRIPTION:The officers of the Stratford Police Department would like to take this opportunity to remind children & parents of a few tips to ensure public safety within the Borough of Stratford. \nA strict 7:00 p.m. CURFEW will be in effect from Sunday\, October 24th thru October 30th \nView borough curfew: \nCurfew (Borough of Stratford)
URL:https://stratfordnj.org/events/borough-curfew-halloween-week-2/
CATEGORIES:Holidays
END:VEVENT
END:VCALENDAR