BEGIN:VCALENDAR
VERSION:2.0
PRODID:-//Borough of Stratford - ECPv6.15.20//NONSGML v1.0//EN
CALSCALE:GREGORIAN
METHOD:PUBLISH
X-WR-CALNAME:Borough of Stratford
X-ORIGINAL-URL:https://stratfordnj.org
X-WR-CALDESC:Events for Borough of Stratford
REFRESH-INTERVAL;VALUE=DURATION:PT1H
X-Robots-Tag:noindex
X-PUBLISHED-TTL:PT1H
BEGIN:VTIMEZONE
TZID:America/New_York
BEGIN:DAYLIGHT
TZOFFSETFROM:-0500
TZOFFSETTO:-0400
TZNAME:EDT
DTSTART:20250309T070000
END:DAYLIGHT
BEGIN:STANDARD
TZOFFSETFROM:-0400
TZOFFSETTO:-0500
TZNAME:EST
DTSTART:20251102T060000
END:STANDARD
BEGIN:DAYLIGHT
TZOFFSETFROM:-0500
TZOFFSETTO:-0400
TZNAME:EDT
DTSTART:20260308T070000
END:DAYLIGHT
BEGIN:STANDARD
TZOFFSETFROM:-0400
TZOFFSETTO:-0500
TZNAME:EST
DTSTART:20261101T060000
END:STANDARD
BEGIN:DAYLIGHT
TZOFFSETFROM:-0500
TZOFFSETTO:-0400
TZNAME:EDT
DTSTART:20270314T070000
END:DAYLIGHT
BEGIN:STANDARD
TZOFFSETFROM:-0400
TZOFFSETTO:-0500
TZNAME:EST
DTSTART:20271107T060000
END:STANDARD
END:VTIMEZONE
BEGIN:VEVENT
DTSTART;VALUE=DATE:20260329
DTEND;VALUE=DATE:20260330
DTSTAMP:20260422T045410
CREATED:20251205T163606Z
LAST-MODIFIED:20251205T163747Z
UID:14134-1774742400-1774828799@stratfordnj.org
SUMMARY:Reminder: Pet License Renewals Due by April 1st
DESCRIPTION:Pet License Renewals Due April 1st \n$5:00 Late Fees start on April 1st
URL:https://stratfordnj.org/events/reminder-pet-license-renewals-due-by-april-1st/
LOCATION:Borough Hall\, 307 Union Avenue\, Stratford\, NJ\, 08084\, United States
END:VEVENT
BEGIN:VEVENT
DTSTART;TZID=America/New_York:20260329T120000
DTEND;TZID=America/New_York:20260329T120000
DTSTAMP:20260422T045410
CREATED:20251205T154313Z
LAST-MODIFIED:20251205T154313Z
UID:14111-1774785600-1774785600@stratfordnj.org
SUMMARY:Rain Date: Egg Hunt
DESCRIPTION:
URL:https://stratfordnj.org/events/rain-date-egg-hunt/
LOCATION:Parkview School\, 123 Parkview Road\, Stratford\, NJ\, 08084\, United States
END:VEVENT
END:VCALENDAR