BEGIN:VCALENDAR
VERSION:2.0
PRODID:-//Borough of Stratford - ECPv6.15.20//NONSGML v1.0//EN
CALSCALE:GREGORIAN
METHOD:PUBLISH
X-WR-CALNAME:Borough of Stratford
X-ORIGINAL-URL:https://stratfordnj.org
X-WR-CALDESC:Events for Borough of Stratford
REFRESH-INTERVAL;VALUE=DURATION:PT1H
X-Robots-Tag:noindex
X-PUBLISHED-TTL:PT1H
BEGIN:VTIMEZONE
TZID:America/New_York
BEGIN:DAYLIGHT
TZOFFSETFROM:-0500
TZOFFSETTO:-0400
TZNAME:EDT
DTSTART:20230312T070000
END:DAYLIGHT
BEGIN:STANDARD
TZOFFSETFROM:-0400
TZOFFSETTO:-0500
TZNAME:EST
DTSTART:20231105T060000
END:STANDARD
BEGIN:DAYLIGHT
TZOFFSETFROM:-0500
TZOFFSETTO:-0400
TZNAME:EDT
DTSTART:20240310T070000
END:DAYLIGHT
BEGIN:STANDARD
TZOFFSETFROM:-0400
TZOFFSETTO:-0500
TZNAME:EST
DTSTART:20241103T060000
END:STANDARD
BEGIN:DAYLIGHT
TZOFFSETFROM:-0500
TZOFFSETTO:-0400
TZNAME:EDT
DTSTART:20250309T070000
END:DAYLIGHT
BEGIN:STANDARD
TZOFFSETFROM:-0400
TZOFFSETTO:-0500
TZNAME:EST
DTSTART:20251102T060000
END:STANDARD
END:VTIMEZONE
BEGIN:VEVENT
DTSTART;TZID=America/New_York:20240103T080000
DTEND;TZID=America/New_York:20240103T120000
DTSTAMP:20260420T073153
CREATED:20230913T203616Z
LAST-MODIFIED:20230913T203616Z
UID:10393-1704268800-1704283200@stratfordnj.org
SUMMARY:Electronics/Metal Collection
DESCRIPTION:Place Electronics & Metals at the curbside on Tuesday night
URL:https://stratfordnj.org/events/electronics-metal-collection-101/
END:VEVENT
BEGIN:VEVENT
DTSTART;TZID=America/New_York:20240103T160000
DTEND;TZID=America/New_York:20240103T170000
DTSTAMP:20260420T073153
CREATED:20231206T221716Z
LAST-MODIFIED:20231207T003831Z
UID:10548-1704297600-1704301200@stratfordnj.org
SUMMARY:Library Board of Trustees
DESCRIPTION:The Library Board of Trustees meets 1st Wednesday of the month at 4:00 PM at the Library. \nContact Stratford Library for meeting details.
URL:https://stratfordnj.org/events/library-board-of-trustees-10/
LOCATION:Stratford Public Library\, 303 Union Ave\, Stratford\, NJ\, 08084\, United States
CATEGORIES:Committee Meetings
END:VEVENT
END:VCALENDAR